


BEGIN:VCALENDAR
VERSION:2.0
PRODID:-//Associació Saint Cugat Lúdic - ECPv6.15.19//NONSGML v1.0//EN
CALSCALE:GREGORIAN
METHOD:PUBLISH
X-WR-CALNAME:Associació Saint Cugat Lúdic
X-ORIGINAL-URL:https://laepic.avilacabello.com
X-WR-CALDESC:Eventos para Associació Saint Cugat Lúdic
REFRESH-INTERVAL;VALUE=DURATION:PT1H
X-Robots-Tag:noindex
X-PUBLISHED-TTL:PT1H
BEGIN:VTIMEZONE
TZID:UTC
BEGIN:STANDARD
TZOFFSETFROM:+0000
TZOFFSETTO:+0000
TZNAME:UTC
DTSTART:20250101T000000
END:STANDARD
END:VTIMEZONE
BEGIN:VEVENT
DTSTART;VALUE=DATE:20260530
DTEND;VALUE=DATE:20260531
DTSTAMP:20260421T075140
CREATED:20260408T103124Z
LAST-MODIFIED:20260408T103124Z
UID:5584-1780099200-1780185599@laepic.avilacabello.com
SUMMARY:1A JORNADA TRENCH CRUSADE: El castigo de Dios
DESCRIPTION:
URL:https://laepic.avilacabello.com/event/1a-jornada-trench-crusade-el-castigo-de-dios/
CATEGORIES:Campaña
END:VEVENT
END:VCALENDAR